BEGIN:VCALENDAR
VERSION:2.0
PRODID:-//eventon.com NONSGML v1.0//EN
CALSCALE:GREGORIAN
METHOD:PUBLISH
BEGIN:VEVENT
UID:69e89c5fae075
DTSTAMP:20260422T100103Z
DTSTART:20230630T140000Z
DTEND:20230630T140000Z
LOCATION:Folk In A Field Bradmoore Woods
SUMMARY:Folk In A Field 2023
DESCRIPTION:Folk In A Field 2023\nhttps://www.paddyhats.com/shows/folk-in-a
 -field-2023/
URL:https://www.paddyhats.com/shows/folk-in-a-field-2023/
END:VEVENT
END:VCALENDAR