BEGIN:VCALENDAR
VERSION:2.0
PRODID:-//eventon.com NONSGML v1.0//EN
CALSCALE:GREGORIAN
METHOD:PUBLISH
BEGIN:VEVENT
UID:69e9db0384460
DTSTAMP:20260423T084035Z
DTSTART:20230310T170000Z
DTEND:20230310T170000Z
LOCATION:Klub Zaścianek Józefa Rostafińskiego 4
SUMMARY:Paddyhats @ Kraków
DESCRIPTION:Zespół The O&#8217;Reillys and the Paddyhats jest współczes
 nym przykładem tego\,  jak niesamowity efekt można osiągnąć poprzez ł
 ączenie różnych instrumentów\,  takich jak gitara elektryczna\,  skrzyp
 ce i akordeon. Dla muzyków nie ma znaczenia czy swoje koncerty grają w du
 żym klubie czy w małym podziemnym pubie\,  ponieważ wszystkie ich piosen
 ki są wykonywane z[..]\nhttps://www.paddyhats.com/shows/paddyhats-krakow/
URL:https://www.paddyhats.com/shows/paddyhats-krakow/
END:VEVENT
END:VCALENDAR