BEGIN:VCALENDAR
VERSION:2.0
PRODID:-//eventon.com NONSGML v1.0//EN
CALSCALE:GREGORIAN
METHOD:PUBLISH
BEGIN:VEVENT
UID:69e89ca0861b0
DTSTAMP:20260422T100208Z
DTSTART:20241025T170000Z
DTEND:20241025T215900Z
LOCATION:Corporation 1-3 Milton Street
SUMMARY:Kleptocracy-Tour - Part II - Sheffield (UK)
DESCRIPTION:Die Kleptocracy-Tour von Ferocious Dog verspricht ein unvergess
 liches Erlebnis für Fans von Folk-Punk und Celtic Rock. Die britische Band
 \,  bekannt für ihre energiegeladenen Auftritte und ihre mitreißende Musi
 k\,  nimmt ihre Anhänger mit auf eine Reise durch ihre rebellische und kä
 mpferische Klangwelt. Die Tour\,  die durch verschiedene Städte führt\,  
 steht im[..]\nhttps://www.paddyhats.com/shows/kleptocracy-tour-part-2-sheff
 ield-uk/
URL:https://www.paddyhats.com/shows/kleptocracy-tour-part-2-sheffield-uk/
END:VEVENT
END:VCALENDAR