BEGIN:VCALENDAR
VERSION:2.0
PRODID:-//eventon.com NONSGML v1.0//EN
CALSCALE:GREGORIAN
METHOD:PUBLISH
BEGIN:VEVENT
UID:69e738e658056
DTSTAMP:20260421T084422Z
DTSTART:20241229T170000Z
DTEND:20241229T223000Z
LOCATION:Pier 2 Bremen
SUMMARY:Eisheilige Nacht 2024 Bremen (DE)
DESCRIPTION:Die Eisheilige Nacht 2024 Bremen im Pier 2: Ein Fest für die O
 hren Die Eisheilige Nacht 2024 Bremen ist ein jährliches Ereignis\,  das M
 usikliebhaber aus ganz Deutschland und darüber hinaus anzieht. Die Veranst
 altung verbindet die düstere Atmosphäre des Winters mit einer Mischung au
 s kraftvollem Folk Metal und anderen mitreißenden Musikgenres.[..]\nhttps:
 //www.paddyhats.com/shows/eisheilige-nacht-2024-bremen/
URL:https://www.paddyhats.com/shows/eisheilige-nacht-2024-bremen/
END:VEVENT
END:VCALENDAR