BEGIN:VCALENDAR
VERSION:2.0
PRODID:-//eventon.com NONSGML v1.0//EN
CALSCALE:GREGORIAN
METHOD:PUBLISH
BEGIN:VEVENT
UID:69e89c5a8ef91
DTSTAMP:20260422T100058Z
DTSTART:20240629T155500Z
DTEND:20240629T215900Z
LOCATION:Čápův dvůr Airport Tábor
SUMMARY:Mighty Sounds Festival 2024
DESCRIPTION:Das Mighty Sounds Festival 2024\,  eines der bekanntesten Musik
 festivals in Europa\,  kehrt im Jahr 2024 nach Tschechien zurück und versp
 richt\,  ein unvergessliches Erlebnis für Musikliebhaber aus der ganzen We
 lt zu werden. Vom 28. bis 30. Juni wird die malerische Stadt Tábor\,  etwa
  eine Stunde südlich von Prag gelegen\,  erneut zum[..]\nhttps://www.paddy
 hats.com/shows/mighty-sounds-festival-2024/
URL:https://www.paddyhats.com/shows/mighty-sounds-festival-2024/
END:VEVENT
END:VCALENDAR